Workbook
Name DEPARTEMENT: OFFSET(LISTES!XFA1048574,1,MATCH(FORMULAIRE!A1048576,Regions,0),COUNTA(OFFSET(LISTES!XFA1048574,1,MATCH(FORMULAIRE!A1048576,Regions,0),50,1)),1)
Name Regions: LISTES!$A$1:$A$14

Sheet FORMULAIRE
C1: Rapport d'Activité Standardisé Annuel 2022 Données 2021 - Appartements de coordination thérapeutique -
C3: REGION :
C4: DEPARTEMENT :
C5: ANNEE : | E5: 2021
C7: Le rapport d'activité ci-dessous doit décrire la structure, caractériser la population accueillie et permettre la lisibilité de l'activité. Il doit décrire les activités obligatoires de l'ACT (coordination médico-psycho-sociale définie par la circulaire du 30/10/2002) ainsi que les missions facultatives (accompagnement après la sortie, prise en charge de publics spécifiques-personnes sortant de prison, accompagnants...)
C8: o Les cases sur fond coloré sont à remplir ; o Pour sauter une ligne dans l'espace commentaire faire ALT + ENTREE; o Vérifier de la cohérence des totaux notamment pour les files actives ; o S’assurer que le nombre d’hommes ou de femmes n’est pas supérieur à celui de la file active ; o Si il n'y a pas assez de place, ou si il y à plus de catégories "autres" les mettre en commentaire de la partie concernée.
C9: I. LA STRUCTURE
C10: 1- Identification de la structure
C12: Nom de l'ACT
C13: Personne à contacter
C15: N° FINESS de l'ACT :
C16: Code NAF :
C17: Code SIREN :
C19: Adresse :
C20: Code postal :
C21: Commune :
... C43: 3- Autres établissements et services gérés par la structure gestionnaire
E45: Oui / Non | F45: Précisez
C46: Etablissement ou service médico-social du secteur "Personnes confrontées à des difficultés spécifiques" : | D46: LHSS, LAM, ACT, ACT "un chez soi d'abord" ....
D47: CSAPA, CAARUD
C48: Etablissement ou service médico-social : | D48: secteur personnes âgées (EHPAD, maison de retraite …)
D49: secteur personnes handicapées (MAS, FAM, SAVS, SAMSAH, SSIAD, IME ….)
C50: Etablissement ou service social (accueil de jour, CHRS, CPH, CADA, maison relais,résidence sociale, …)
C51: Etablissement sanitaire (dont : HAD ...)
C52: Service de prévention et d'accueil (point écoute jeunes, maraude, maison des parents, ...
C53: SIAO, 115
C54: Service d'accompagnement social au logement , à l'insertion professionnelle
C55: Autre structure et ou dispositif :
C59: 4- Frais de siège (article R314-87 CASF)
C61: Frais de siège :
C62: Si oui, précisez la date d'autorisation : | F62: =IF(AND(E61="Oui",E62=""),"Veuillez renseigner la date d'autorisation …","")
C64: Article R314-87 CASF : "Les budgets approuvés des établissements ou services (sociaux et médico-sociaux) peuvent comporter une quote-part de dépenses relatives aux frais de siège social de l'organisme gestionnaire. Cette faculté est suborndonnée à l'octroi d'une autorisation, délivrée à l'organisme gestionnaire par l'autorité désignée (...), qui fixe la nature des prestations, matérielles ou intellectuelles, qui ont vocation à être prises en compte".
C66: 5- Données relatives à l'autorisation
C68: Numéro d'autorisation
C69: Date de délivrance de l'autorisation (exemple : 01/01/2017)
C70: Date de fin de l'autorisation (exemple : 01/01/2017)
C72: 6- Evaluation
C74: Échéance pour la mise en œuvre de l'obligation d'évaluation interne
C75: Échéance pour la mise en œuvre de l'obligation d'évaluation externe
C77: 7- Projet d'établissement
...

Sheet LISTES
A1: Auvergne-Rhône-Alpes | B1: Auvergne-Rhône-Alpes | C1: Bourgogne-Franche-Comté | D1: Bretagne | E1: Centre-Val de Loire | F1: Corse | G1: Grand Est | H1: Hauts-de-France | I1: Île-de-France | J1: Normandie | K1: Nouvelle-Aquitaine | L1: Occitanie | M1: Pays de la Loire | N1: Provence-Alpes-Côte d'Azur | O1: Outre-mer
A2: Bourgogne-Franche-Comté | B2: Ain | C2: Côte-d'Or | D2: Côtes-d'Armor | E2: Cher | F2: Corse-du-Sud | G2: Ardennes | H2: Aisne | I2: Paris | J2: Calvados | K2: Charente | L2: Ariège | M2: Loire-Atlantique | N2: Alpes-de-Haute-Provence | O2: Guadeloupe
A3: Bretagne | B3: Allier | C3: Doubs | D3: Finistère | E3: Eure-et-Loir | F3: Haute-Corse | G3: Aube | H3: Nord | I3: Seine-et-Marne | J3: Eure | K3: Charente-Maritime | L3: Aude | M3: Maine-et-Loire | N3: Hautes-Alpes | O3: Martinique
A4: Centre-Val de Loire | B4: Ardèche | C4: Jura | D4: Ille-et-Vilaine | E4: Indre | G4: Marne | H4: Oise | I4: Yvelines | J4: Manche | K4: Corrèze | L4: Aveyron | M4: Mayenne | N4: Alpes-Maritimes | O4: Guyane
A5: Corse | B5: Cantal | C5: Nièvre | D5: Morbihan | E5: Indre-et-Loire | G5: Haute-Marne | H5: Pas-de-Calais | I5: Essonne | J5: Orne | K5: Creuse | L5: Gard | M5: Sarthe | N5: Bouches-du-Rhône | O5: La Réunion
A6: Grand Est | B6: Drôme | C6: Haute-Saône | E6: Loir-et-Cher | G6: Meurthe-et-Moselle | H6: Somme | I6: Hauts-de-Seine | J6: Seine-Maritime | K6: Dordogne | L6: Haute-Garonne | M6: Vendée | N6: Var | O6: Mayotte
A7: Hauts-de-France | B7: Isère | C7: Saône-et-Loire | E7: Loiret | G7: Meuse | I7: Seine-Saint-Denis | K7: Gironde | L7: Gers | N7: Vaucluse
A8: Île-de-France | B8: Loire | C8: Yonne | G8: Moselle | I8: Val-de-Marne | K8: Landes | L8: Hérault
A9: Normandie | B9: Haute-Loire | C9: Territoire de Belfort | G9: Bas-Rhin | I9: Val-d'Oise | K9: Lot-et-Garonne | L9: Lot
A10: Nouvelle-Aquitaine | B10: Puy-de-Dôme | G10: Haut-Rhin | K10: Pyrénées-Atlantiques | L10: Lozère
A11: Occitanie | B11: Rhône | G11: Vosges | K11: Deux-Sèvres | L11: Hautes-Pyrénées
A12: Pays de la Loire | B12: Savoie | K12: Vienne | L12: Pyrénées-Orientales
A13: Provence-Alpes-Côte d'Azur | B13: Haute-Savoie | K13: Haute-Vienne | L13: Tarn
A14: Outre-mer | L14: Tarn-et-Garonne

Sheet REPONSES
A1: 0 | B1: 0 | C1: 0 | D1: I.1. | E1: I.1. | F1: I.1. | G1: I.1. | H1: I.1. | I1: I.1. | J1: I.1. | K1: I.1. | L1: I.1. | M1: I.1. | N1: I.1. | O1: I.2. | P1: I.2. | Q1: I.2. | R1: I.2. | S1: I.2. | T1: I.2. | U1: I.2. | V1: I.2. | W1: I.2. | X1: I.3. | Y1: I.3. | Z1: I.3. | AA1: I.3. | AB1: I.3. | AC1: I.3. | AD1: I.3. | AE1: I.3. | AF1: I.3. | AG1: I.3. | AH1: I.3. | AI1: I.3. | AJ1: I.3. | AK1: I.3. | AL1: I.3. | AM1: I.3. | AN1: I.3. | AO1: I.3. | AP1: I.3. | AQ1: I.3. | AR1: I.3. | AS1: I.3. | AT1: I.3. | AU1: I.3. | AV1: I.4. | AW1: I.4. | AX1: I.5. | AY1: I.5. | AZ1: I.5. | BA1: I.6. | BB1: I.6. | BC1: I.7. | BD1: I.7. | BE1: I.7. | BF1: I.7. | BG1: I.8. | BH1: I.8. | BI1: I.8. | BJ1: I.8. | BK1: I.8. | BL1: I.8. | BM1: I.8. | BN1: I.8. | BO1: I.8. | BP1: I.8. | BQ1: I.8. | BR1: I.8. | BS1: I.8. | BT1: I.8. | BU1: I.8. | BV1: I.8. | BW1: I.8. | BX1: I.8. | BY1: I.8. | BZ1: I.8. | CA1: I.8. | CB1: I.8. | CC1: I.8. | CD1: I.8. | CE1: I.8. | CF1: I.8. | CG1: I.8. | CH1: I.8. | CI1: I.8. | CJ1: I.8. | CK1: I.8. | CL1: I.8. | CM1: I.8. | CN1: I.8. | CO1: I.8. | CP1: I.8. | CQ1: I.8. | CR1: I.8. | CS1: I.8. | CT1: I.8. | CU1: I.8. | CV1: I.8. | CW1: I.8. | CX1: I.8. | CY1: I.8. | CZ1: I.8. | DA1: I.8. | DB1: I.8. | DC1: I. | DD1: II. | DE1: II. | DF1: II. | DG1: II. | DH1: II. | DI1: II. | DJ1: II. | DK1: II. | DL1: II. | DM1: II. | DN1: II. | DO1: II. | DP1: II. | DQ1: III. | DR1: III. | DS1: III. | DT1: III. | DU1: III. | DV1: III. | DW1: III. | DX1: III. | DY1: III. | DZ1: III. | EA1: III. | EB1: III. | EC1: III. | ED1: III. | EE1: III. | EF1: III. | EG1: III. | EH1: III. | EI1: III. | EJ1: III. | EK1: III. | EL1: III. | EM1: III. | EN1: III. | EO1: III. | EP1: III. | EQ1: III. | ER1: III. | ES1: III. | ET1: III. | EU1: III. | EV1: III. | EW1: III. | EX1: III. | EY1: III. | EZ1: III. | FA1: III. | FB1: III. | FC1: III. | FD1: III. | FE1: III. | FF1: III. | FG1: III. | FH1: III. | FI1: III. | FJ1: III. | FK1: III. | FL1: III. | FM1: III. | FN1: III. | FO1: III. | FP1: III. | FQ1: III. | FR1: III. | FS1: III. | FT1: III. | FU1: III. | FV1: III. | FW1: III. | FX1: III. | FY1: III. | FZ1: III. | GA1: III. | GB1: III. | GC1: III. | GD1: III. | GE1: III. | GF1: III. | GG1: III. | GH1: III. | GI1: III. | GJ1: III. | GK1: III. | GL1: III. | GM1: III. | GN1: III. | GO1: III. | GP1: III. | GQ1: III. | GR1: III. | GS1: III. | GT1: III. | GU1: IV. | GV1: IV. | GW1: IV. | GX1: IV. | GY1: IV. | GZ1: IV. | HA1: IV. | HB1: IV. | HC1: IV. | HD1: IV. | HE1: IV. | HF1: IV. | HG1: IV. | HH1: IV. | HI1: IV. | HJ1: IV. | HK1: IV. | HL1: IV. | HM1: IV. | HN1: IV. | HO1: IV. | HP1: IV. | HQ1: IV. | HR1: IV. | HS1: IV. | HT1: IV. | HU1: V.1. | HV1: V.1. | HW1: V.1. | HX1: V.2. | HY1: V.2. | HZ1: V.2. | IA1: V.2. | IB1: V.2. | IC1: V.2. | ID1: V.2. | IE1: V.2. | IF1: V.3. | IG1: V.3. | IH1: V.3. | II1: V.3. | IJ1: V.3. | IK1: V.3. | IL1: V.3. | IM1: V.3. | IN1: V.3. | IO1: V.3. | IP1: V.3. | IQ1: V.3. | IR1: V.3. | IS1: V.3. | IT1: V.3. | IU1: V.3. | IV1: V.3. | IW1: V.3. | IX1: V.3. | IY1: V.3. | IZ1: V.3. | JA1: V.3. | JB1: V.3. | JC1: V.3. | JD1: V.4. | JE1: V.4. | JF1: V.4. | JG1: V.4. | JH1: V.4. | JI1: V.4. | JJ1: V.4. | JK1: V.4. | JL1: V.4. | JM1: V.4. | JN1: V.4. | JO1: V.4. | JP1: V.4. | JQ1: V.4. | JR1: V.4. | JS1: V.4. | JT1: V.4. | JU1: V.4. | JV1: V.4. | JW1: V.4. | JX1: V.4. | JY1: V.4. | JZ1: V.4. | KA1: V.4. | KB1: V.4. | KC1: V.4. | KD1: V.4. | KE1: V.4. | KF1: V.4. | KG1: V.4. | KH1: V.4. | KI1: V.4. | KJ1: V.5. | KK1: V.5. | KL1: V.5. | KM1: V.5. | KN1: V.5. | KO1: V.5. | KP1: V.5. | KQ1: V.5. | KR1: V.5. | KS1: V.5. | KT1: V.5. | KU1: V.5. | KV1: V.5. | KW1: V.5. | KX1: V.5. | KY1: V.5. | KZ1: V.5. | LA1: V.5. | LB1: V.5. | LC1: V.5. | LD1: V.5. | LE1: V.5. | LF1: V.5. | LG1: V.5. | LH1: V.5. | LI1: V.5. | LJ1: V.5. | LK1: V.5. | LL1: V.5. | LM1: V.5. | LN1: V.5. | LO1: V.5. | LP1: V.5. | LQ1: V.5. | LR1: V.5. | LS1: V.5. | LT1: V.6. | LU1: V.6. | LV1: V.6. | LW1: V.6. | LX1: V.6. | LY1: V.6. | LZ1: V.6. | MA1: V.6. | MB1: V.6. | MC1: V.6. | MD1: V.6. | ME1: V.6. | MF1: V.6. | MG1: V.6. | MH1: V.6. | MI1: V.6. | MJ1: V.6. | MK1: V.6. | ML1: V.6. | MM1: V.6. | MN1: V.6. | MO1: V.6. | MP1: V.6. | MQ1: V.6. | MR1: V.6. | MS1: V.6. | MT1: V.6. | MU1: V.6. | MV1: V.6. | MW1: V.6. | MX1: V.6. | MY1: V.6. | MZ1: V.6. | NA1: V.6. | NB1: V.6. | NC1: V.6. | ND1: VI.1. | NE1: VI.2. | NF1: VI.2. | NG1: VI.2. | NH1: VI.2. | NI1: VI.2. | NJ1: VI.2. | NK1: VI.2. | NL1: VI.2. | NM1: VI.2. | NN1: VI.2. | NO1: VI.2. | NP1: VI.2. | NQ1: VI.2. | NR1: VI.2. | NS1: VI.2. | NT1: VI.2. | NU1: VI.2. | NV1: VI.2. | NW1: VI.2. | NX1: VI.2. | NY1: VI.2. | NZ1: VI.2. | OA1: VI.2. | OB1: VI.2. | OC1: VI.2. | OD1: VI.2. | OE1: VI.2. | OF1: VI.2. | OG1: VI.2. | OH1: VI.2. | OI1: VI.2. | OJ1: VI.2. | OK1: VI.3. | OL1: VI.3. | OM1: VI.3. | ON1: VI.3. | OO1: VI.3. | OP1: VI.3. | OQ1: VI.4. | OR1: VI.4. | OS1: VI.4. | OT1: VI.4. | OU1: VI.4. | OV1: VI.4. | OW1: VI.4. | OX1: VI.4. | OY1: VI.4. | OZ1: VI.4. | PA1: VI.4. | PB1: VI.4. | PC1: VI.4. | PD1: VI.4. | PE1: VI.4. | PF1: VI.4. | PG1: VI.4. | PH1: VI.4. | PI1: VI.4. | PJ1: VI.5. | PK1: VI.6. | PL1: VI.6. | PM1: VII.1. | PN1: VII.1. | PO1: VII.1. | PP1: VII.1. | PQ1: VII.1. | PR1: VII.1. | PS1: VII.1. | PT1: VII.1. | PU1: VII.1. | PV1: VII.1. | PW1: VII.1. | PX1: VII.1. | PY1: VII.1. | PZ1: VII.1. | QA1: VII.1. | QB1: VII.1. | QC1: VII.1. | QD1: VII.1. | QE1: VII.1. | QF1: VII.1. | QG1: VII.1. | QH1: VII.1. | QI1: VII.1. | QJ1: VII.1. | QK1: VII.1. | QL1: VII.1. | QM1: VII.1. | QN1: VII.1. | QO1: VII.1. | QP1: VII.1. | QQ1: VII.1. | QR1: VII.1. | QS1: VII.1. | QT1: VII.1. | QU1: VII.1. | QV1: VII.1. | QW1: VII.1. | QX1: VII.1. | QY1: VII.1. | QZ1: VII.1. | RA1: VII.1. | RB1: VII.1. | RC1: VII.1. | RD1: VII.1. | RE1: VII.1. | RF1: VII.1. | RG1: VII.1. | RH1: VII.1. | RI1: VII.1. | RJ1: VII.1. | RK1: VII.1. | RL1: VII.1. | RM1: VII.1. | RN1: VII.1. | RO1: VII.1. | RP1: VII.1. | RQ1: VII.1. | RR1: VII.1. | RS1: VII.1. | RT1: VII.1. | RU1: VII.1. | RV1: VII.1. | RW1: VII.1. | RX1: VII.1. | RY1: VII.1. | RZ1: VII.1. | SA1: VII.1. | SB1: VII.1. | SC1: VII.1. | SD1: VII.1. | SE1: VII.1. | SF1: VII.1. | SG1: VII.1. | SH1: VII.1. | SI1: VII.1. | SJ1: VII.1. | SK1: VII.1. | SL1: VII.1. | SM1: VII.1. | SN1: VII.1. | SO1: VII.1. | SP1: VII.1. | SQ1: VII.1. | SR1: VII.1. | SS1: VII.1. | ST1: VII.1. | SU1: VII.1. | SV1: VII.1. | SW1: VII.1. | SX1: VII.1. | SY1: VII.1. | SZ1: VII.1. | TA1: VII.1. | TB1: VII.1. | TC1: VII.1. | TD1: VII.1. | TE1: VII.1. | TF1: VII.1. | TG1: VII.1. | TH1: VII.1. | TI1: VII.1. | TJ1: VII.1. | TK1: VII.1. | TL1: VII.1. | TM1: VII.1. | TN1: VII.1. | TO1: VII.1. | TP1: VII.1. | TQ1: VII.1. | TR1: VII.1. | TS1: VII.1. | TT1: VII.1. | TU1: VII.1. | TV1: VII.1. | TW1: VII.1. | TX1: VII.1. | TY1: VII.1. | TZ1: VII.1. | UA1: VII.1. | UB1: VII.1. | UC1: VII.1. | UD1: VII.1. | UE1: VII.1. | UF1: VII.1. | UG1: VII.1. | UH1: VII.1. | UI1: VII.1. | UJ1: VII.1. | UK1: VII.1. | UL1: VII.1. | UM1: VII.1. | UN1: VII.1. | UO1: VII.1. | UP1: VII.1. | UQ1: VII.1. | UR1: VII.1. | US1: VII.1. | UT1: VII.1. | UU1: VII.1. | UV1: VII.1. | UW1: VII.1. | UX1: VII.1. | UY1: VII.1. | UZ1: VII.1. | VA1: VII.1. | VB1: VII.1. | VC1: VII.1. | VD1: VII.2. | VE1: VII.2. | VF1: VII.2. | VG1: VII.2. | VH1: VII.2. | VI1: VII.2. | VJ1: VII.2. | VK1: VII.2. | VL1: VII.2. | VM1: VII.2. | VN1: VII.2. | VO1: VII.2. | VP1: VII.2. | VQ1: VII.2. | VR1: VII.2. | VS1: VII.2. | VT1: VII.2. | VU1: VII.2. | VV1: VII.2. | VW1: VII.2. | VX1: VII.2. | VY1: VII.2. | VZ1: VII.2. | WA1: VII.3. | WB1: VII.3. | WC1: VII.3. | WD1: VII.3. | WE1: VII.3. | WF1: VII.3. | WG1: VII.3. | WH1: VII.3. | WI1: VII.3. | WJ1: VII.3. | WK1: VII.3. | WL1: VII.3. | WM1: VII.3. | WN1: VII.3. | WO1: VII.3. | WP1: VII.3. | WQ1: VII.3. | WR1: VII.3. | WS1: VII.3. | WT1: VII.3. | WU1: VII.3. | WV1: VIII.1. | WW1: VIII.1. | WX1: VIII.1. | WY1: VIII.1. | WZ1: VIII.1. | XA1: VIII.1. | XB1: VIII.1. | XC1: VIII.1. | XD1: VIII.1. | XE1: VIII.1. | XF1: VIII.1. | XG1: VIII.1. | XH1: VIII.1. | XI1: VIII.2. | XJ1: VIII.2. | XK1: VIII.2. | XL1: VIII.2. | XM1: VIII.2. | XN1: VIII.2. | XO1: VIII.3. | XP1: VIII.3. | XQ1: VIII.3. | XR1: VIII.3. | XS1: VIII.3. | XT1: VIII.4. | XU1: VIII.4. | XV1: VIII.4. | XW1: VIII.4. | XX1: VIII.4. | XY1: VIII.4. | XZ1: VIII.4. | YA1: VIII.4. | YB1: VIII.5. | YC1: VIII.5. | YD1: VIII.5. | YE1: VIII.5. | YF1: VIII.6. | YG1: VIII.6. | YH1: VIII.6. | YI1: VIII.6. | YJ1: VIII.6. | YK1: VIII.6. | YL1: VIII.6. | YM1: VIII.6. | YN1: VIII.6. | YO1: VIII.6. | YP1: VIII.6. | YQ1: VIII.6. | YR1: VIII.6. | YS1: VIII.6. | YT1: VIII.6. | YU1: VIII.6. | YV1: VIII.6. | YW1: VIII.6. | YX1: VIII.6. | YY1: VIII.6. | YZ1: VIII.6. | ZA1: VIII.6. | ZB1: VIII.6. | ZC1: VIII.6. | ZD1: VIII.6. | ZE1: VIII.6. | ZF1: VIII.6. | ZG1: VIII.6. | ZH1: VIII.6. | ZI1: VIII.6. | ZJ1: VIII.6. | ZK1: VIII.6. | ZL1: VIII.6. | ZM1: VIII.6. | ZN1: VIII.6. | ZO1: VIII.6. | ZP1: VIII.6. | ZQ1: VIII.6. | ZR1: VIII.6. | ZS1: VIII.6. | ZT1: VIII.6. | ZU1: VIII.6. | ZV1: VIII.6. | ZW1: VIII.6. | ZX1: VIII.6. | ZY1: VIII.6. | ZZ1: VIII.6. | AAA1: VIII.6. | AAB1: VIII.6. | AAC1: VIII.6. | AAD1: VIII.6. | AAE1: VIII.6. | AAF1: VIII.6. | AAG1: VIII.6. | AAH1: VIII.6. | AAI1: VIII.6. | AAJ1: VIII.6. | AAK1: VIII.6. | AAL1: VIII.6. | AAM1: VIII.6. | AAN1: VIII.6. | AAO1: VIII.6. | AAP1: VIII.6. | AAQ1: VIII.6. | AAR1: VIII.6. | AAS1: VIII.6. | AAT1: VIII.6. | AAU1: VIII.6. | AAV1: VIII.6. | AAW1: VIII.6. | AAX1: VIII.6. | AAY1: VIII.6. | AAZ1: VIII.6. | ABA1: VIII.6. | ABB1: VIII.6. | ABC1: VIII.6. | ABD1: VIII.6. | ABE1: VIII.6. | ABF1: VIII.6. | ABG1: VIII.6. | ABH1: VIII.6. | ABI1: VIII.6. | ABJ1: VIII.6. | ABK1: VIII.6. | ABL1: VIII.6. | ABM1: VIII.6. | ABN1: VIII.6. | ABO1: VIII.6. | ABP1: VIII.6. | ABQ1: VIII.6. | ABR1: VIII.6. | ABS1: VIII.6. | ABT1: VIII.6. | ABU1: VIII.6. | ABV1: VIII.6. | ABW1: VIII.6. | ABX1: VIII.6. | ABY1: VIII.6. | ABZ1: VIII.6. | ACA1: VIII.6. | ACB1: VIII.6. | ACC1: VIII.6. | ACD1: VIII.6. | ACE1: VIII.6. | ACF1: VIII.6. | ACG1: VIII.6. | ACH1: VIII.6. | ACI1: VIII.6. | ACJ1: VIII.6. | ACK1: VIII.6. | ACL1: VIII.6. | ACM1: VIII.6. | ACN1: VIII.6. | ACO1: VIII.6. | ACP1: VIII.6. | ACQ1: VIII.6. | ACR1: VIII.6. | ACS1: VIII.6. | ACT1: VIII.6. | ACU1: VIII.6. | ACV1: VIII.6. | ACW1: VIII.6. | ACX1: VIII.6. | ACY1: VIII.6. | ACZ1: VIII.6. | ADA1: VIII.6. | ADB1: VIII.6. | ADC1: VIII.6. | ADD1: VIII.6. | ADE1: VIII.6. | ADF1: VIII.6. | ADG1: VIII.6. | ADH1: VIII.6. | ADI1: VIII.6. | ADJ1: VIII.6. | ADK1: VIII.6. | ADL1: VIII.6. | ADM1: VIII.6. | ADN1: VIII.6. | ADO1: VIII.6. | ADP1: VIII.6. | ADQ1: VIII.6. | ADR1: VIII.6. | ADS1: VIII.6. | ADT1: VIII.6. | ADU1: VIII.6. | ADV1: VIII.6. | ADW1: VIII.6. | ADX1: VIII.6. | ADY1: VIII.6. | ADZ1: VIII.6. | AEA1: VIII.6. | AEB1: VIII.6. | AEC1: VIII.6. | AED1: VIII.6. | AEE1: VIII.6. | AEF1: VIII.6. | AEG1: VIII.6. | AEH1: VIII.6. | AEI1: VIII.6. | AEJ1: VIII.6. | AEK1: VIII.6. | AEL1: VIII.6. | AEM1: VIII.6. | AEN1: VIII.6. | AEO1: VIII.6. | AEP1: VIII.6. | AEQ1: VIII.6. | AER1: VIII.6. | AES1: VIII.6. | AET1: VIII.6. | AEU1: VIII.6. | AEV1: VIII.6. | AEW1: VIII.6. | AEX1: VIII.6. | AEY1: VIII.6. | AEZ1: VIII.6. | AFA1: VIII.6. | AFB1: VIII.6. | AFC1: VIII.6. | AFD1: VIII.6. | AFE1: VIII.6. | AFF1: VIII.6. | AFG1: VIII.6. | AFH1: VIII.6. | AFI1: VIII.6. | AFJ1: VIII.6. | AFK1: VIII.6. | AFL1: VIII.6. | AFM1: VIII.6. | AFN1: VIII.6. | AFO1: VIII.6. | AFP1: VIII.6. | AFQ1: VIII.6. | AFR1: VIII.6. | AFS1: VIII.6. | AFT1: VIII.6. | AFU1: VIII.6. | AFV1: VIII.6. | AFW1: VIII.6. | AFX1: VIII.6. | AFY1: VIII.6. | AFZ1: VIII.6. | AGA1: VIII.6. | AGB1: VIII.6. | AGC1: VIII.6. | AGD1: VIII.6. | AGE1: VIII.6. | AGF1: VIII.6. | AGG1: VIII.6. | AGH1: VIII.6. | AGI1: VIII.6. | AGJ1: VIII.6. | AGK1: VIII.6. | AGL1: VIII.6. | AGM1: VIII.6. | AGN1: VIII.6. | AGO1: VIII.6. | AGP1: VIII.6. | AGQ1: VIII.6. | AGR1: VIII.6. | AGS1: VIII.6. | AGT1: VIII.6. | AGU1: VIII.6. | AGV1: VIII.6. | AGW1: VIII.6. | AGX1: VIII.6. | AGY1: VIII.6. | AGZ1: VIII.6. | AHA1: VIII.6. | AHB1: VIII.6. | AHC1: VIII.6. | AHD1: VIII.6. | AHE1: VIII.6. | AHF1: VIII.6. | AHG1: VIII.6. | AHH1: VIII.6. | AHI1: VIII.6. | AHJ1: VIII.6. | AHK1: VIII.6. | AHL1: VIII.6. | AHM1: VIII.6. | AHN1: VIII.6. | AHO1: VIII.6. | AHP1: VIII.6. | AHQ1: VIII.6. | AHR1: VIII.6. | AHS1: VIII.6. | AHT1: VIII.6. | AHU1: VIII.6. | AHV1: VIII.6. | AHW1: VIII.6. | AHX1: VIII.6. | AHY1: VIII.6. | AHZ1: VIII.6. | AIA1: VIII.6. | AIB1: VIII.7. | AIC1: VIII.7. | AID1: VIII.7. | AIE1: VIII.7. | AIF1: VIII.8. | AIG1: VIII.8. | AIH1: IX.2. | AII1: IX.2. | AIJ1: IX.2. | AIK1: IX.2. | AIL1: IX.2. | AIM1: IX.2. | AIN1: IX.2. | AIO1: IX.2. | AIP1: IX.2. | AIQ1: IX.2. | AIR1: IX.2. | AIS1: IX.2. | AIT1: IX.2. | AIU1: IX.2. | AIV1: IX.2. | AIW1: IX.2. | AIX1: IX.2. | AIY1: IX.2. | AIZ1: IX.2. | AJA1: IX.2. | AJB1: IX.2. | AJC1: IX.2. | AJD1: IX.2. | AJE1: IX.2. | AJF1: IX.2. | AJG1: IX.2. | AJH1: IX.2. | AJI1: IX.2. | AJJ1: IX.2. | AJK1: IX.2. | AJL1: IX.2. | AJM1: IX.2. | AJN1: IX.2. | AJO1: IX.2. | AJP1: X. | AJQ1: X. | AJR1: X. | AJS1: X. | AJT1: X. | AJU1: X. | AJV1: X. | AJW1: X. | AJX1: X. | AJY1: X. | AJZ1: X. | AKA1: X. | AKB1: X. | AKC1: XI. | AKD1: XI.
